BEGIN:VCALENDAR
VERSION:2.0
PRODID:-//Os Turforening - ECPv6.15.20//NONSGML v1.0//EN
CALSCALE:GREGORIAN
METHOD:PUBLISH
X-WR-CALNAME:Os Turforening
X-ORIGINAL-URL:https://www.osturforening.no
X-WR-CALDESC:Arrangement for Os Turforening
REFRESH-INTERVAL;VALUE=DURATION:PT1H
X-Robots-Tag:noindex
X-PUBLISHED-TTL:PT1H
BEGIN:VTIMEZONE
TZID:Europe/Oslo
BEGIN:DAYLIGHT
TZOFFSETFROM:+0100
TZOFFSETTO:+0200
TZNAME:CEST
DTSTART:20140330T010000
END:DAYLIGHT
BEGIN:STANDARD
TZOFFSETFROM:+0200
TZOFFSETTO:+0100
TZNAME:CET
DTSTART:20141026T010000
END:STANDARD
BEGIN:DAYLIGHT
TZOFFSETFROM:+0100
TZOFFSETTO:+0200
TZNAME:CEST
DTSTART:20150329T010000
END:DAYLIGHT
BEGIN:STANDARD
TZOFFSETFROM:+0200
TZOFFSETTO:+0100
TZNAME:CET
DTSTART:20151025T010000
END:STANDARD
BEGIN:DAYLIGHT
TZOFFSETFROM:+0100
TZOFFSETTO:+0200
TZNAME:CEST
DTSTART:20160327T010000
END:DAYLIGHT
BEGIN:STANDARD
TZOFFSETFROM:+0200
TZOFFSETTO:+0100
TZNAME:CET
DTSTART:20161030T010000
END:STANDARD
BEGIN:DAYLIGHT
TZOFFSETFROM:+0100
TZOFFSETTO:+0200
TZNAME:CEST
DTSTART:20170326T010000
END:DAYLIGHT
BEGIN:STANDARD
TZOFFSETFROM:+0200
TZOFFSETTO:+0100
TZNAME:CET
DTSTART:20171029T010000
END:STANDARD
END:VTIMEZONE
BEGIN:VEVENT
DTSTART;VALUE=DATE:20160409
DTEND;VALUE=DATE:20160411
DTSTAMP:20260420T143802
CREATED:20151126T090932Z
LAST-MODIFIED:20151126T103224Z
UID:240-1460160000-1460332799@www.osturforening.no
SUMMARY:Nansenhytta-Østvangen-Vola
DESCRIPTION:30-års markering for Os Turforening på søndag. Mer info kommer.
URL:https://www.osturforening.no/aktivitet/9-10-april/
CATEGORIES:Skiløyper
ATTACH;FMTTYPE=image/jpeg:https://www.osturforening.no/wp-content/uploads/2015/02/silkeføre-ved-Vola-Gunn-Nylend-Axthorne.jpg
END:VEVENT
BEGIN:VEVENT
DTSTART;VALUE=DATE:20160402
DTEND;VALUE=DATE:20160404
DTSTAMP:20260420T143802
CREATED:20151126T090843Z
LAST-MODIFIED:20151126T091333Z
UID:239-1459555200-1459727999@www.osturforening.no
SUMMARY:Nørdalen
DESCRIPTION:
URL:https://www.osturforening.no/aktivitet/2-3-april/
CATEGORIES:Skiløyper
END:VEVENT
BEGIN:VEVENT
DTSTART;VALUE=DATE:20160327
DTEND;VALUE=DATE:20160328
DTSTAMP:20260420T143802
CREATED:20151126T090814Z
LAST-MODIFIED:20151126T091338Z
UID:238-1459036800-1459123199@www.osturforening.no
SUMMARY:Hummeldalen-Narbuvoll
DESCRIPTION:Kjøres med scooter
URL:https://www.osturforening.no/aktivitet/27-mars/
CATEGORIES:Skiløyper
END:VEVENT
BEGIN:VEVENT
DTSTART;VALUE=DATE:20160326
DTEND;VALUE=DATE:20160327
DTSTAMP:20260420T143802
CREATED:20151126T090737Z
LAST-MODIFIED:20151126T091346Z
UID:237-1458950400-1459036799@www.osturforening.no
SUMMARY:Åsan
DESCRIPTION:Påskeaften. Klettrunden Tolga kjøres. Kletthytta\, er åpen søndag.
URL:https://www.osturforening.no/aktivitet/26-mars/
CATEGORIES:Skiløyper
END:VEVENT
BEGIN:VEVENT
DTSTART;VALUE=DATE:20160325
DTEND;VALUE=DATE:20160326
DTSTAMP:20260420T143802
CREATED:20151126T090646Z
LAST-MODIFIED:20151126T091350Z
UID:236-1458864000-1458950399@www.osturforening.no
SUMMARY:Nansenhytta-Østvangen-Vola-Haugsvollen
DESCRIPTION:Langfredag
URL:https://www.osturforening.no/aktivitet/25-mars/
CATEGORIES:Skiløyper
END:VEVENT
BEGIN:VEVENT
DTSTART;VALUE=DATE:20160324
DTEND;VALUE=DATE:20160325
DTSTAMP:20260420T143802
CREATED:20151126T090614Z
LAST-MODIFIED:20151126T091354Z
UID:235-1458777600-1458863999@www.osturforening.no
SUMMARY:Nørdalen
DESCRIPTION:Barneskirenn Høsenfjellhytta. Skjærtorsdag
URL:https://www.osturforening.no/aktivitet/24-mars/
CATEGORIES:Skiløyper
END:VEVENT
BEGIN:VEVENT
DTSTART;VALUE=DATE:20160323
DTEND;VALUE=DATE:20160324
DTSTAMP:20260420T143802
CREATED:20151126T090532Z
LAST-MODIFIED:20151126T091402Z
UID:234-1458691200-1458777599@www.osturforening.no
SUMMARY:Hummeldalen
DESCRIPTION:Påskeonsdag
URL:https://www.osturforening.no/aktivitet/23-mars/
CATEGORIES:Skiløyper
END:VEVENT
BEGIN:VEVENT
DTSTART;VALUE=DATE:20160322
DTEND;VALUE=DATE:20160323
DTSTAMP:20260420T143802
CREATED:20151126T090457Z
LAST-MODIFIED:20151126T091406Z
UID:233-1458604800-1458691199@www.osturforening.no
SUMMARY:Åsan m/ Vangrøfta
DESCRIPTION:Narkuten.
URL:https://www.osturforening.no/aktivitet/22-mars/
CATEGORIES:Skiløyper
END:VEVENT
BEGIN:VEVENT
DTSTART;TZID=Europe/Oslo:20160321T080000
DTEND;TZID=Europe/Oslo:20160321T170000
DTSTAMP:20260420T143802
CREATED:20151126T090407Z
LAST-MODIFIED:20151126T091411Z
UID:232-1458547200-1458579600@www.osturforening.no
SUMMARY:Nansenhytta-Østvangen-Vola-Haugsvollen
DESCRIPTION:Påskemandag
URL:https://www.osturforening.no/aktivitet/21-mars/
CATEGORIES:Skiløyper
END:VEVENT
BEGIN:VEVENT
DTSTART;VALUE=DATE:20160320
DTEND;VALUE=DATE:20160321
DTSTAMP:20260420T143802
CREATED:20151126T090346Z
LAST-MODIFIED:20151126T091416Z
UID:231-1458432000-1458518399@www.osturforening.no
SUMMARY:Hummeldalen
DESCRIPTION:Palmesøndag. Gravåsrennet + Dal-rennet
URL:https://www.osturforening.no/aktivitet/20-mars/
CATEGORIES:Skiløyper
END:VEVENT
BEGIN:VEVENT
DTSTART;VALUE=DATE:20160319
DTEND;VALUE=DATE:20160320
DTSTAMP:20260420T143802
CREATED:20151126T090254Z
LAST-MODIFIED:20151126T091420Z
UID:230-1458345600-1458431999@www.osturforening.no
SUMMARY:Nansenhytta-Østvangen-Vola-Haugsvollen
DESCRIPTION:Palmelørdag
URL:https://www.osturforening.no/aktivitet/19-mars/
CATEGORIES:Skiløyper
END:VEVENT
BEGIN:VEVENT
DTSTART;VALUE=DATE:20160313
DTEND;VALUE=DATE:20160314
DTSTAMP:20260420T143802
CREATED:20151126T090158Z
LAST-MODIFIED:20151126T091424Z
UID:229-1457827200-1457913599@www.osturforening.no
SUMMARY:Nansenhytta-Østvangen-Vola-Haugsvollen
DESCRIPTION:Aktivitetsdag Gåstjønnåshytta. Kaffeservering Gammelvollen (Narjordet)
URL:https://www.osturforening.no/aktivitet/13-mars/
CATEGORIES:Skiløyper
END:VEVENT
BEGIN:VEVENT
DTSTART;VALUE=DATE:20160312
DTEND;VALUE=DATE:20160313
DTSTAMP:20260420T143802
CREATED:20151126T090117Z
LAST-MODIFIED:20151126T091431Z
UID:228-1457740800-1457827199@www.osturforening.no
SUMMARY:Nørdalen
DESCRIPTION:Berserennet på lørdag
URL:https://www.osturforening.no/aktivitet/12-mars/
CATEGORIES:Skiløyper
END:VEVENT
BEGIN:VEVENT
DTSTART;VALUE=DATE:20160305
DTEND;VALUE=DATE:20160307
DTSTAMP:20260420T143802
CREATED:20151126T090038Z
LAST-MODIFIED:20151126T091436Z
UID:227-1457136000-1457308799@www.osturforening.no
SUMMARY:Nørdalen
DESCRIPTION:Råkjøring og ski-orientering Høsenfjellhytta søndag.
URL:https://www.osturforening.no/aktivitet/5-6-mars/
CATEGORIES:Skiløyper
END:VEVENT
BEGIN:VEVENT
DTSTART;VALUE=DATE:20160302
DTEND;VALUE=DATE:20160303
DTSTAMP:20260420T143802
CREATED:20151126T085955Z
LAST-MODIFIED:20151126T091440Z
UID:226-1456876800-1456963199@www.osturforening.no
SUMMARY:Nørdalen
DESCRIPTION:Midtukeløype
URL:https://www.osturforening.no/aktivitet/2-mars/
CATEGORIES:Skiløyper
END:VEVENT
BEGIN:VEVENT
DTSTART;VALUE=DATE:20160227
DTEND;VALUE=DATE:20160229
DTSTAMP:20260420T143802
CREATED:20151126T082429Z
LAST-MODIFIED:20151126T091446Z
UID:225-1456531200-1456703999@www.osturforening.no
SUMMARY:Åsan
DESCRIPTION:Klettrunden Tolga kjøres. Kletthytta\, er åpen søndag
URL:https://www.osturforening.no/aktivitet/27-28-feb/
CATEGORIES:Skiløyper
END:VEVENT
BEGIN:VEVENT
DTSTART;VALUE=DATE:20160224
DTEND;VALUE=DATE:20160225
DTSTAMP:20260420T143802
CREATED:20151126T082349Z
LAST-MODIFIED:20151126T091454Z
UID:224-1456272000-1456358399@www.osturforening.no
SUMMARY:Nansenhytta-Østvangen-Haugsvollen
DESCRIPTION:Midtukeløype
URL:https://www.osturforening.no/aktivitet/24-feb/
CATEGORIES:Skiløyper
END:VEVENT
BEGIN:VEVENT
DTSTART;VALUE=DATE:20160220
DTEND;VALUE=DATE:20160222
DTSTAMP:20260420T143802
CREATED:20151126T082306Z
LAST-MODIFIED:20151126T091458Z
UID:223-1455926400-1456099199@www.osturforening.no
SUMMARY:Nansenhytta-Østvangen-Vola- Haugsvollen
DESCRIPTION:
URL:https://www.osturforening.no/aktivitet/20-21-feb/
CATEGORIES:Skiløyper
END:VEVENT
BEGIN:VEVENT
DTSTART;VALUE=DATE:20160217
DTEND;VALUE=DATE:20160218
DTSTAMP:20260420T143802
CREATED:20151126T082238Z
LAST-MODIFIED:20151126T091504Z
UID:222-1455667200-1455753599@www.osturforening.no
SUMMARY:Åsan
DESCRIPTION:Midtukeløype
URL:https://www.osturforening.no/aktivitet/17-feb/
CATEGORIES:Skiløyper
END:VEVENT
BEGIN:VEVENT
DTSTART;VALUE=DATE:20160214
DTEND;VALUE=DATE:20160215
DTSTAMP:20260420T143802
CREATED:20151126T082153Z
LAST-MODIFIED:20151126T091511Z
UID:221-1455408000-1455494399@www.osturforening.no
SUMMARY:Hummeldalen
DESCRIPTION:
URL:https://www.osturforening.no/aktivitet/14-feb/
CATEGORIES:Skiløyper
END:VEVENT
BEGIN:VEVENT
DTSTART;VALUE=DATE:20160213
DTEND;VALUE=DATE:20160214
DTSTAMP:20260420T143802
CREATED:20151126T082125Z
LAST-MODIFIED:20151126T091539Z
UID:220-1455321600-1455407999@www.osturforening.no
SUMMARY:Nørdalen
DESCRIPTION:
URL:https://www.osturforening.no/aktivitet/13-feb/
CATEGORIES:Skiløyper
END:VEVENT
BEGIN:VEVENT
DTSTART;VALUE=DATE:20160206
DTEND;VALUE=DATE:20160208
DTSTAMP:20260420T143802
CREATED:20151126T082055Z
LAST-MODIFIED:20151126T091539Z
UID:219-1454716800-1454889599@www.osturforening.no
SUMMARY:Nansenhytta-Østvangen-Haugsvollen
DESCRIPTION:
URL:https://www.osturforening.no/aktivitet/6-7-jan/
CATEGORIES:Skiløyper
END:VEVENT
BEGIN:VEVENT
DTSTART;VALUE=DATE:20160203
DTEND;VALUE=DATE:20160204
DTSTAMP:20260420T143802
CREATED:20151126T082010Z
LAST-MODIFIED:20151126T091539Z
UID:218-1454457600-1454543999@www.osturforening.no
SUMMARY:Nørdalen
DESCRIPTION:Midtukeløype
URL:https://www.osturforening.no/aktivitet/3-feb/
CATEGORIES:Skiløyper
END:VEVENT
BEGIN:VEVENT
DTSTART;VALUE=DATE:20160130
DTEND;VALUE=DATE:20160201
DTSTAMP:20260420T143802
CREATED:20151126T081938Z
LAST-MODIFIED:20151126T091539Z
UID:217-1454112000-1454284799@www.osturforening.no
SUMMARY:Nørdalen
DESCRIPTION:
URL:https://www.osturforening.no/aktivitet/30-31-jan/
CATEGORIES:Skiløyper
END:VEVENT
BEGIN:VEVENT
DTSTART;VALUE=DATE:20160123
DTEND;VALUE=DATE:20160125
DTSTAMP:20260420T143802
CREATED:20151126T081848Z
LAST-MODIFIED:20151126T091539Z
UID:216-1453507200-1453679999@www.osturforening.no
SUMMARY:Åsan
DESCRIPTION:Klettrunden Tolga kjøres. Kletthytta\, er åpen søndag
URL:https://www.osturforening.no/aktivitet/23-24-jan/
CATEGORIES:Skiløyper
END:VEVENT
BEGIN:VEVENT
DTSTART;VALUE=DATE:20160120
DTEND;VALUE=DATE:20160121
DTSTAMP:20260420T143802
CREATED:20151126T081806Z
LAST-MODIFIED:20151126T091539Z
UID:215-1453248000-1453334399@www.osturforening.no
SUMMARY:Nansenhytta-Østvangen
DESCRIPTION:Midtukeløype
URL:https://www.osturforening.no/aktivitet/20-jan/
CATEGORIES:Skiløyper
END:VEVENT
BEGIN:VEVENT
DTSTART;VALUE=DATE:20160116
DTEND;VALUE=DATE:20160118
DTSTAMP:20260420T143802
CREATED:20151126T081713Z
LAST-MODIFIED:20151126T091539Z
UID:214-1452902400-1453075199@www.osturforening.no
SUMMARY:Nansenhytta-Østvangen-Haugsvollen
DESCRIPTION:
URL:https://www.osturforening.no/aktivitet/16-17-jan/
CATEGORIES:Skiløyper
END:VEVENT
BEGIN:VEVENT
DTSTART;VALUE=DATE:20160109
DTEND;VALUE=DATE:20160111
DTSTAMP:20260420T143802
CREATED:20151126T081619Z
LAST-MODIFIED:20151126T091539Z
UID:213-1452297600-1452470399@www.osturforening.no
SUMMARY:Åsan
DESCRIPTION:Klettrunden Tolga kjøres. Kletthytta\, er åpen søndag
URL:https://www.osturforening.no/aktivitet/9-10-jan/
CATEGORIES:Skiløyper
END:VEVENT
BEGIN:VEVENT
DTSTART;VALUE=DATE:20160102
DTEND;VALUE=DATE:20160104
DTSTAMP:20260420T143802
CREATED:20151126T081537Z
LAST-MODIFIED:20151126T091539Z
UID:212-1451692800-1451865599@www.osturforening.no
SUMMARY:Nørdalen
DESCRIPTION:
URL:https://www.osturforening.no/aktivitet/2-3-jan/
CATEGORIES:Skiløyper
END:VEVENT
BEGIN:VEVENT
DTSTART;VALUE=DATE:20151229
DTEND;VALUE=DATE:20160102
DTSTAMP:20260420T143802
CREATED:20151126T081450Z
LAST-MODIFIED:20151126T091539Z
UID:211-1451347200-1451692799@www.osturforening.no
SUMMARY:Nansenhytta-Østvangen-Haugsvollen
DESCRIPTION:
URL:https://www.osturforening.no/aktivitet/29-des-1-jan/
CATEGORIES:Skiløyper
END:VEVENT
END:VCALENDAR